BEGIN:VCALENDAR
VERSION:2.0
PRODID:-//Verein der Natur- und Heimatfreunde Schmölln OL e.V. - ECPv6.14.0//NONSGML v1.0//EN
CALSCALE:GREGORIAN
METHOD:PUBLISH
X-WR-CALNAME:Verein der Natur- und Heimatfreunde Schmölln OL e.V.
X-ORIGINAL-URL:https://www.heimatverein-schmoelln.de
X-WR-CALDESC:Veranstaltungen für Verein der Natur- und Heimatfreunde Schmölln OL e.V.
REFRESH-INTERVAL;VALUE=DURATION:PT1H
X-Robots-Tag:noindex
X-PUBLISHED-TTL:PT1H
BEGIN:VTIMEZONE
TZID:Europe/Berlin
BEGIN:DAYLIGHT
TZOFFSETFROM:+0100
TZOFFSETTO:+0200
TZNAME:CEST
DTSTART:20200329T010000
END:DAYLIGHT
BEGIN:STANDARD
TZOFFSETFROM:+0200
TZOFFSETTO:+0100
TZNAME:CET
DTSTART:20201025T010000
END:STANDARD
BEGIN:DAYLIGHT
TZOFFSETFROM:+0100
TZOFFSETTO:+0200
TZNAME:CEST
DTSTART:20210328T010000
END:DAYLIGHT
BEGIN:STANDARD
TZOFFSETFROM:+0200
TZOFFSETTO:+0100
TZNAME:CET
DTSTART:20211031T010000
END:STANDARD
BEGIN:DAYLIGHT
TZOFFSETFROM:+0100
TZOFFSETTO:+0200
TZNAME:CEST
DTSTART:20220327T010000
END:DAYLIGHT
BEGIN:STANDARD
TZOFFSETFROM:+0200
TZOFFSETTO:+0100
TZNAME:CET
DTSTART:20221030T010000
END:STANDARD
BEGIN:DAYLIGHT
TZOFFSETFROM:+0100
TZOFFSETTO:+0200
TZNAME:CEST
DTSTART:20230326T010000
END:DAYLIGHT
BEGIN:STANDARD
TZOFFSETFROM:+0200
TZOFFSETTO:+0100
TZNAME:CET
DTSTART:20231029T010000
END:STANDARD
BEGIN:DAYLIGHT
TZOFFSETFROM:+0100
TZOFFSETTO:+0200
TZNAME:CEST
DTSTART:20240331T010000
END:DAYLIGHT
BEGIN:STANDARD
TZOFFSETFROM:+0200
TZOFFSETTO:+0100
TZNAME:CET
DTSTART:20241027T010000
END:STANDARD
BEGIN:DAYLIGHT
TZOFFSETFROM:+0100
TZOFFSETTO:+0200
TZNAME:CEST
DTSTART:20250330T010000
END:DAYLIGHT
BEGIN:STANDARD
TZOFFSETFROM:+0200
TZOFFSETTO:+0100
TZNAME:CET
DTSTART:20251026T010000
END:STANDARD
END:VTIMEZONE
BEGIN:VEVENT
DTSTART;TZID=Europe/Berlin:20251019T090000
DTEND;TZID=Europe/Berlin:20251019T120000
DTSTAMP:20260420T124354
CREATED:20250926T092550Z
LAST-MODIFIED:20250926T092550Z
UID:1079-1760864400-1760875200@www.heimatverein-schmoelln.de
SUMMARY:Herbstwanderung
DESCRIPTION:Mit einer Herbstwanderung durch das Dorf möchten wir an die Geschichte des Dorfes erinnern. Treff ist am 19.10.2025 um 9 Uhr am „Parkplatz der Turnhalle“ von Schmölln.  Alle interessierten Bürger sind Herzlich eingeladen.
URL:https://www.heimatverein-schmoelln.de/termine-veranstaltungen/herbstwanderung/
LOCATION:Parkplatz an der Turnhalle Schmölln\, Dorfstr. 60\, Schmölln OL\, Sachsen\, 01877\, Germany
CATEGORIES:öffentliche Veranstaltung
ATTACH;FMTTYPE=image/jpeg:https://www.heimatverein-schmoelln.de/wp-content/uploads/2025/09/Zeitung_Herbstwanderung_2025-scaled.jpg
END:VEVENT
BEGIN:VEVENT
DTSTART;TZID=Europe/Berlin:20251005T140000
DTEND;TZID=Europe/Berlin:20251005T190000
DTSTAMP:20260420T124354
CREATED:20250926T091646Z
LAST-MODIFIED:20250926T091646Z
UID:1077-1759672800-1759690800@www.heimatverein-schmoelln.de
SUMMARY:Drachenfest auf dem Oberhofberg
DESCRIPTION:Wie jedes Jahr findet am 05.10.25 unser Drachenfest auf unserem Hausberg\, dem Oberhofberg\, statt. Wir hoffen dass wir bei einer Bratwurst sowie Kaffee und Kuchen und ordentlich Wind viele Drachen am Himmel bewundern können. \nAusweichtermin\, falls es Petrus am 05.10. nicht so gut mit uns meint\, ist der 12.10.24. Bitte die Medien beobachten oder hier auf unserer Seite schauen.
URL:https://www.heimatverein-schmoelln.de/termine-veranstaltungen/drachenfest-auf-dem-oberhofberg/
LOCATION:Oberhofberg\, Oberhofbergweg\, Schmölln-Putzkau\, Sachsen\, 01877\, Deutschland
CATEGORIES:öffentliche Veranstaltung
ATTACH;FMTTYPE=image/jpeg:https://www.heimatverein-schmoelln.de/wp-content/uploads/2025/09/Zeitung_Drachenfest_2025-scaled.jpg
ORGANIZER;CN="Verein der Natur- und Heimatfreunde Schm%C3%B6lln OL e.V.":MAILTO:info@heimatverein-schmoelln.de
END:VEVENT
BEGIN:VEVENT
DTSTART;TZID=Europe/Berlin:20250928T140000
DTEND;TZID=Europe/Berlin:20250928T170000
DTSTAMP:20260420T124354
CREATED:20250926T091209Z
LAST-MODIFIED:20250926T091209Z
UID:1075-1759068000-1759078800@www.heimatverein-schmoelln.de
SUMMARY:3. Drachenbasteln
DESCRIPTION:Alle Kinder der Gemeinde sind herzlich zum Drachenbasteln in das Vereinsheim am Sportplatz eingeladen.
URL:https://www.heimatverein-schmoelln.de/termine-veranstaltungen/3-drachenbasteln/
LOCATION:Vereinsheim am Sportplatz\, Bischofswerdaer Str. 20\, Schmölln-Putzkau\, Sachsen\, 01877\, Germany
CATEGORIES:öffentliche Veranstaltung
ATTACH;FMTTYPE=image/jpeg:https://www.heimatverein-schmoelln.de/wp-content/uploads/2025/09/Zeitung_Drachenbasteln-scaled.jpg
ORGANIZER;CN="Verein der Natur- und Heimatfreunde Schm%C3%B6lln OL e.V.":MAILTO:info@heimatverein-schmoelln.de
END:VEVENT
BEGIN:VEVENT
DTSTART;TZID=Europe/Berlin:20250518T090000
DTEND;TZID=Europe/Berlin:20250518T170000
DTSTAMP:20260420T124354
CREATED:20250430T054554Z
LAST-MODIFIED:20250430T054554Z
UID:1065-1747558800-1747587600@www.heimatverein-schmoelln.de
SUMMARY:Frühjahrswanderung zur Schwarzwasserquelle
DESCRIPTION:Endlich gibt es wieder eine heimatkundliche Wanderung. Die Tour dieses Mal soll es zur Schwarzwasserquelle geben. Treff ist am 18.5.2025 um 9 Uhr am „Mühlteich“ von Schmölln.  Verpflegung bringt jeder selbst mit\, also Rucksackverpflegung\, da sich keine Lokale auf der Route befinden. Alle interessierten Bürger sind Herzlich eingeladen.
URL:https://www.heimatverein-schmoelln.de/termine-veranstaltungen/fruehjahrswanderung-zur-schwarzwasserquelle/
LOCATION:Mühlteich\, Am Mühlteich 1\, Schmölln-Putzkau\, Sachsen\, 01877\, Germany
CATEGORIES:öffentliche Veranstaltung
ATTACH;FMTTYPE=image/png:https://www.heimatverein-schmoelln.de/wp-content/uploads/2025/04/Heimatkundliche-Wanderung-2025.png
END:VEVENT
BEGIN:VEVENT
DTSTART;TZID=Europe/Berlin:20250517T140000
DTEND;TZID=Europe/Berlin:20250517T170000
DTSTAMP:20260420T124354
CREATED:20250430T051255Z
LAST-MODIFIED:20250430T051255Z
UID:1063-1747490400-1747501200@www.heimatverein-schmoelln.de
SUMMARY:2. Welttag der Bienen
DESCRIPTION:Anlässig zum „Welttag der Bienen“ am 20.5. wird es am Sa.\, den 17.5.2025\, mit der AG der Jungen Heimatfreunde einen Aktionsnachmittag geben. Dazu sind alle Kinder der Gemeinde recht herzlich eingeladen. Start ist 14 Uhr im Vereinsheim am Sportplatz. \nWir bitten um vorherige Anmeldung.
URL:https://www.heimatverein-schmoelln.de/termine-veranstaltungen/2-welttag-der-bienen/
LOCATION:Vereinsheim am Sportplatz\, Bischofswerdaer Str. 20\, Schmölln-Putzkau\, Sachsen\, 01877\, Germany
ATTACH;FMTTYPE=image/png:https://www.heimatverein-schmoelln.de/wp-content/uploads/2025/04/A6_2.Welttag_der_Bienen_2025.png
ORGANIZER;CN="Verein der Natur- und Heimatfreunde Schm%C3%B6lln OL e.V.":MAILTO:info@heimatverein-schmoelln.de
END:VEVENT
BEGIN:VEVENT
DTSTART;TZID=Europe/Berlin:20250413T140000
DTEND;TZID=Europe/Berlin:20250413T170000
DTSTAMP:20260420T124354
CREATED:20250403T125856Z
LAST-MODIFIED:20250407T130243Z
UID:1054-1744552800-1744563600@www.heimatverein-schmoelln.de
SUMMARY:3. Osterbasteln
DESCRIPTION:Wir möchten alle Kinder der Gemeinde Schmölln-Putzkau zum 3. Osterbasteln in das Vereinsheim am Sportplatz einladen. \nFür eine bessere Planung bitten wir\, um eine kurze telefonische Anmeldung bis 13.04.25 unter 0171-9586341 oder 0160-91748967.
URL:https://www.heimatverein-schmoelln.de/termine-veranstaltungen/3-osterbasteln/
LOCATION:Dorfgemeinschaftszentrum Schmölln\, Schulweg 1\, Schmölln-Putzkau\, Sachsen\, 01877\, Deutschland
CATEGORIES:öffentliche Veranstaltung
ATTACH;FMTTYPE=image/png:https://www.heimatverein-schmoelln.de/wp-content/uploads/2025/04/A6_3.Osterbasteln_2025.png
ORGANIZER;CN="Verein der Natur- und Heimatfreunde Schm%C3%B6lln OL e.V.":MAILTO:info@heimatverein-schmoelln.de
END:VEVENT
BEGIN:VEVENT
DTSTART;TZID=Europe/Berlin:20250411T170000
DTEND;TZID=Europe/Berlin:20250411T200000
DTSTAMP:20260420T124354
CREATED:20250407T125052Z
LAST-MODIFIED:20250407T125602Z
UID:1047-1744390800-1744401600@www.heimatverein-schmoelln.de
SUMMARY:Frühjahrserwachen am Heimatmuseum
DESCRIPTION:Der Frühling ist da und wir haben das Museum und die Ausßenanlage wieder aufgehübscht. Kommt schaut es euch an. Am 11.04.25 feiern wir unser Frühjarserwachen direkt am und im Heimatmuseum. Für das leibliche Wohl wird wieder gesorgt. Bei einer knackigen Bratwurst oder eine selbstgemachten Fettbemme und einem kühlen Getränk könnt ihr dann die neue Wechselausstellung bewundern und gemütlich zusammen kommen. Ab 17 Uhr geht es los. Wir freuen uns auf euch.
URL:https://www.heimatverein-schmoelln.de/termine-veranstaltungen/fruehjahrserwachen-am-heimatmuseum-2/
LOCATION:Heimatmuseum\, Schulweg 1\, Schmölln OL\, Sachsen\, 01877\, Deutschland
CATEGORIES:öffentliche Veranstaltung
ATTACH;FMTTYPE=image/png:https://www.heimatverein-schmoelln.de/wp-content/uploads/2025/04/A6_Fruehjahrserwachen_2025.png
ORGANIZER;CN="Verein der Natur- und Heimatfreunde Schm%C3%B6lln OL e.V.":MAILTO:info@heimatverein-schmoelln.de
END:VEVENT
BEGIN:VEVENT
DTSTART;TZID=Europe/Berlin:20250125T143000
DTEND;TZID=Europe/Berlin:20250125T170000
DTSTAMP:20260420T124354
CREATED:20250123T162051Z
LAST-MODIFIED:20250123T162059Z
UID:1040-1737815400-1737824400@www.heimatverein-schmoelln.de
SUMMARY:Vogelhochzeit - Wir bauen ein Vogelhaus
DESCRIPTION:Ein Vogel wollte Hochzeit feiern – und wir feiern mit. In der Zeit von 14.30 Uhr bis 17 Uhr wird die AG junge Heimatfreunde im Dorfgemeinschaftszentrum von Schmölln zusammen kommen und Vogelhäuschen bauen. \nBitte unbedingt vorher unter 0171-9586341 oder 0160-91748967 anmelden\, da es nur eine begrenzte Anzahl an Bausätzen gibt.
URL:https://www.heimatverein-schmoelln.de/termine-veranstaltungen/vogelhochzeit-wir-bauen-ein-vogelhaus/
LOCATION:Dorfgemeinschaftszentrum Schmölln\, Schulweg 1\, Schmölln-Putzkau\, Sachsen\, 01877\, Deutschland
CATEGORIES:öffentliche Veranstaltung
ATTACH;FMTTYPE=image/png:https://www.heimatverein-schmoelln.de/wp-content/uploads/2025/01/Vogelhochzeit.png
END:VEVENT
BEGIN:VEVENT
DTSTART;TZID=Europe/Berlin:20241031T173000
DTEND;TZID=Europe/Berlin:20241031T193000
DTSTAMP:20260420T124354
CREATED:20241011T071714Z
LAST-MODIFIED:20241011T071835Z
UID:1029-1730395800-1730403000@www.heimatverein-schmoelln.de
SUMMARY:2. Halloween Grusel-Tour durch Schmölln
DESCRIPTION:Süßes oder Saures soll es am 31.10.24 durch Schmölln schallen\, denn an diesem Tage findet die 2. Halloween Grusel-Tour statt. Treff ist 17.30 Uhr an der Gemeindeverwaltung und von dort aus geht es durch den Ort. Bitte unbedingt ein geeignetes Gefäß (Tasche oder Eimer) mitbringen.
URL:https://www.heimatverein-schmoelln.de/termine-veranstaltungen/2-halloween-grusel-tour-durch-schmoelln/
LOCATION:Heimatmuseum\, Schulweg 1\, Schmölln OL\, Sachsen\, 01877\, Deutschland
CATEGORIES:öffentliche Veranstaltung
ATTACH;FMTTYPE=image/jpeg:https://www.heimatverein-schmoelln.de/wp-content/uploads/2024/10/Social_Grusel-Tour.jpg
ORGANIZER;CN="Verein der Natur- und Heimatfreunde Schm%C3%B6lln OL e.V.":MAILTO:info@heimatverein-schmoelln.de
END:VEVENT
BEGIN:VEVENT
DTSTART;TZID=Europe/Berlin:20241027T140000
DTEND;TZID=Europe/Berlin:20241027T170000
DTSTAMP:20260420T124354
CREATED:20241011T070707Z
LAST-MODIFIED:20241011T070707Z
UID:1027-1730037600-1730048400@www.heimatverein-schmoelln.de
SUMMARY:2. Halloween Kürbisschnitzen
DESCRIPTION:Bereits zum 2. Halloween Kürbisschnitzen lädt die AG junge Heimatfreunde alle interessierten Kinder und Eltern am 27.10.24 von 14-17 Uhr in das Dorfgemeinschaftszentrum ein.
URL:https://www.heimatverein-schmoelln.de/termine-veranstaltungen/2-halloween-kuerbisschnitzen/
LOCATION:Dorfgemeinschaftszentrum Schmölln\, Schulweg 1\, Schmölln-Putzkau\, Sachsen\, 01877\, Deutschland
CATEGORIES:öffentliche Veranstaltung
ATTACH;FMTTYPE=image/jpeg:https://www.heimatverein-schmoelln.de/wp-content/uploads/2024/10/Kuerbisschnitzen.jpg
ORGANIZER;CN="Verein der Natur- und Heimatfreunde Schm%C3%B6lln OL e.V.":MAILTO:info@heimatverein-schmoelln.de
END:VEVENT
BEGIN:VEVENT
DTSTART;TZID=Europe/Berlin:20241006T140000
DTEND;TZID=Europe/Berlin:20241006T170000
DTSTAMP:20260420T124354
CREATED:20240917T072203Z
LAST-MODIFIED:20240917T072458Z
UID:1017-1728223200-1728234000@www.heimatverein-schmoelln.de
SUMMARY:Drachenfest 2024
DESCRIPTION:Wieder ist ein Jahr vorüber und schon jetzt freuen wir uns auf unser jähliches Drachenfest und sind bereits wieder fleißig am Vorbereiten. Wir laden alle recht herzlich am 06.10.2024 auf den Oberhofberg in Schmölln ein. Für das leibliche Wohl ist wie immer gesorgt.  Wir hoffen dass wir bei einer Bratwurst sowie Kaffee und Kuchen und ordentlich Wind viele Drachen am Himmel bewundern können. \nAusweichtermin\, falls es Petrus am 06.10. nicht so gut mit uns meint\, ist der 13.10.24. Bitte die Medien beobachten oder hier auf unserer Seite schauen. \n 
URL:https://www.heimatverein-schmoelln.de/termine-veranstaltungen/drachenfest-2024/
LOCATION:Oberhofberg\, Oberhofbergweg\, Schmölln-Putzkau\, Sachsen\, 01877\, Deutschland
CATEGORIES:öffentliche Veranstaltung
ATTACH;FMTTYPE=image/png:https://www.heimatverein-schmoelln.de/wp-content/uploads/2024/09/Social_Drachenfest_2024.png
ORGANIZER;CN="Verein der Natur- und Heimatfreunde Schm%C3%B6lln OL e.V.":MAILTO:info@heimatverein-schmoelln.de
END:VEVENT
BEGIN:VEVENT
DTSTART;TZID=Europe/Berlin:20240419T170000
DTEND;TZID=Europe/Berlin:20240419T200000
DTSTAMP:20260420T124354
CREATED:20240411T102103Z
LAST-MODIFIED:20240411T104218Z
UID:970-1713546000-1713556800@www.heimatverein-schmoelln.de
SUMMARY:Frühjahrserwachen am Heimatmuseum
DESCRIPTION:Der Frühling ist da und wir haben das Museum und die Ausßenanlage wieder aufgehübscht. Kommt schaut es euch an. Am 19.04.24 feiern wir unser Frühjarserwachen direkt am und im Heimatmuseum. Für das leibliche Wohl wird wieder gesorgt. Bei einer knackigen Bratwurst oder eine selbstgemachten Fettbemme und einem kühlen Getränk könnt ihr dann die neue Wechselausstellung bewundern und gemütlich zusammen kommen. Ab 17 Uhr geht es los. Wir freuen uns auf euch.
URL:https://www.heimatverein-schmoelln.de/termine-veranstaltungen/fruehjahrserwachen-am-heimatmuseum/
LOCATION:Heimatmuseum\, Schulweg 1\, Schmölln OL\, Sachsen\, 01877\, Deutschland
CATEGORIES:öffentliche Veranstaltung
ATTACH;FMTTYPE=image/jpeg:https://www.heimatverein-schmoelln.de/wp-content/uploads/2024/04/Fruehjahrserwachen-2024-social.jpg
ORGANIZER;CN="Verein der Natur- und Heimatfreunde Schm%C3%B6lln OL e.V.":MAILTO:info@heimatverein-schmoelln.de
END:VEVENT
BEGIN:VEVENT
DTSTART;TZID=Europe/Berlin:20240324T140000
DTEND;TZID=Europe/Berlin:20240324T170000
DTSTAMP:20260420T124354
CREATED:20240308T101616Z
LAST-MODIFIED:20240308T101616Z
UID:962-1711288800-1711299600@www.heimatverein-schmoelln.de
SUMMARY:2. Osterbasteln
DESCRIPTION:Wir möchten alle Kinder der Gemeinde Schmölln-Putzkau zum 2. Osterbasteln in das Dorfgemeinschaftszentrum einladen. \nFür eine bessere Planung bitten wir\, um eine kurze telefonische Anmeldung bis 21.03.2024 unter 0171-9586341 oder 0160-91748967.
URL:https://www.heimatverein-schmoelln.de/termine-veranstaltungen/2-osterbasteln/
LOCATION:Dorfgemeinschaftszentrum Schmölln\, Schulweg 1\, Schmölln-Putzkau\, Sachsen\, 01877\, Deutschland
CATEGORIES:öffentliche Veranstaltung
ATTACH;FMTTYPE=image/jpeg:https://www.heimatverein-schmoelln.de/wp-content/uploads/2024/03/2.-Osterbasteln-social.jpg
ORGANIZER;CN="Verein der Natur- und Heimatfreunde Schm%C3%B6lln OL e.V.":MAILTO:info@heimatverein-schmoelln.de
END:VEVENT
BEGIN:VEVENT
DTSTART;TZID=Europe/Berlin:20231031T173000
DTEND;TZID=Europe/Berlin:20231031T193000
DTSTAMP:20260420T124354
CREATED:20231005T073830Z
LAST-MODIFIED:20231005T073846Z
UID:958-1698773400-1698780600@www.heimatverein-schmoelln.de
SUMMARY:1. Halloween Grusel-Tour durch Schmölln.
DESCRIPTION:Süßes oder Saures soll es am 31.10.23 durch Schmölln schallen\, denn an diesem Tage findet die 1. Halloween Grusel-Tour statt. Treff ist 17.30 Uhr an der Gemeindeverwaltung und von dort aus geht es durch den Ort. Bitte unbedingt ein geeignetes Gefäß (Tasche oder Eimer) mitbringen.
URL:https://www.heimatverein-schmoelln.de/termine-veranstaltungen/1-halloween-grusel-tour-durch-schmoelln/
LOCATION:Heimatmuseum\, Schulweg 1\, Schmölln OL\, Sachsen\, 01877\, Deutschland
CATEGORIES:öffentliche Veranstaltung
ATTACH;FMTTYPE=image/jpeg:https://www.heimatverein-schmoelln.de/wp-content/uploads/2023/09/Halloween_2023_social2.jpg
ORGANIZER;CN="Verein der Natur- und Heimatfreunde Schm%C3%B6lln OL e.V.":MAILTO:info@heimatverein-schmoelln.de
END:VEVENT
BEGIN:VEVENT
DTSTART;TZID=Europe/Berlin:20231028T140000
DTEND;TZID=Europe/Berlin:20231028T170000
DTSTAMP:20260420T124354
CREATED:20231005T072942Z
LAST-MODIFIED:20231005T072942Z
UID:956-1698501600-1698512400@www.heimatverein-schmoelln.de
SUMMARY:1. Halloween Kürbisschnitzen
DESCRIPTION:Zum 1. Halloween Kürbisschnitzen lädt die AG junge Heimatfreunde alle interessierten Kinder und Eltern am 28.10.23 von 14-17 Uhr in das Dorfgemeinschaftszentrum ein.
URL:https://www.heimatverein-schmoelln.de/termine-veranstaltungen/1-halloween-kuerbisschnitzen/
LOCATION:Dorfgemeinschaftszentrum Schmölln\, Schulweg 1\, Schmölln-Putzkau\, Sachsen\, 01877\, Deutschland
CATEGORIES:öffentliche Veranstaltung
ATTACH;FMTTYPE=image/jpeg:https://www.heimatverein-schmoelln.de/wp-content/uploads/2023/09/Halloween_2023_social1.jpg
ORGANIZER;CN="Verein der Natur- und Heimatfreunde Schm%C3%B6lln OL e.V.":MAILTO:info@heimatverein-schmoelln.de
END:VEVENT
BEGIN:VEVENT
DTSTART;TZID=Europe/Berlin:20231008T140000
DTEND;TZID=Europe/Berlin:20231008T180000
DTSTAMP:20260420T124354
CREATED:20230824T082138Z
LAST-MODIFIED:20230824T082138Z
UID:922-1696773600-1696788000@www.heimatverein-schmoelln.de
SUMMARY:Drachenfest 2023
DESCRIPTION:Wir freuen uns schon jetzt auf unser jähliches Drachenfest und sind bereits fleißig am Vorbereiten. Wir laden alle recht herzlich am 08.10.2023 auf den Oberhofberg in Schmölln ein. Für das leibliche Wohl ist wie immer gesorgt.  Wir hoffen dass wir bei einer Bratwurst oder Kaffee und Kuchen und ordentlich Wind viele Drachen am Himmel bestaunen können. \nAusweichtermin\, falls es Petrus am 08.10. nicht so gut mit uns meint\, ist der 15.10.23. Bitte die Medien beobachten oder hier auf unserer Seite schauen. \n 
URL:https://www.heimatverein-schmoelln.de/termine-veranstaltungen/drachenfest-2023/
LOCATION:Oberhofberg\, Oberhofbergweg\, Schmölln-Putzkau\, Sachsen\, 01877\, Deutschland
CATEGORIES:öffentliche Veranstaltung
ATTACH;FMTTYPE=image/png:https://www.heimatverein-schmoelln.de/wp-content/uploads/2021/10/Drachenfest-2021-e1637242588555.png
END:VEVENT
BEGIN:VEVENT
DTSTART;TZID=Europe/Berlin:20231001T140000
DTEND;TZID=Europe/Berlin:20231001T170000
DTSTAMP:20260420T124354
CREATED:20230929T094703Z
LAST-MODIFIED:20230929T095432Z
UID:931-1696168800-1696179600@www.heimatverein-schmoelln.de
SUMMARY:1. Drachenbasteln
DESCRIPTION:Die AG „Junge Heimatfreunde“ lädt alle Kinder zum 1. Drachembasteln in das Dorfgemeinschaftszentrum von Schmölln ein.
URL:https://www.heimatverein-schmoelln.de/termine-veranstaltungen/1-drachenbasteln/
LOCATION:Dorfgemeinschaftszentrum Schmölln\, Schulweg 1\, Schmölln-Putzkau\, Sachsen\, 01877\, Deutschland
CATEGORIES:öffentliche Veranstaltung
ATTACH;FMTTYPE=image/jpeg:https://www.heimatverein-schmoelln.de/wp-content/uploads/2023/09/Drachenbasteln_2023_social.jpg
ORGANIZER;CN="Verein der Natur- und Heimatfreunde Schm%C3%B6lln OL e.V.":MAILTO:info@heimatverein-schmoelln.de
END:VEVENT
BEGIN:VEVENT
DTSTART;TZID=Europe/Berlin:20230831T173000
DTEND;TZID=Europe/Berlin:20230831T173000
DTSTAMP:20260420T124354
CREATED:20230824T080715Z
LAST-MODIFIED:20230824T080715Z
UID:919-1693503000-1693503000@www.heimatverein-schmoelln.de
SUMMARY:Zu Besuch beim Putzkauer Heimatverein
DESCRIPTION:Das jährliche Treffen mit dem Putzkauer Heimatverein findet dieses Jahr in Putzkau statt. Treff ist am 31.08.2023 am Rittergut in Putzkau. Alle Mitglieder des Heimatvereins sind recht herzlich eingeladen.
URL:https://www.heimatverein-schmoelln.de/termine-veranstaltungen/zu-besuch-beim-putzkauer-heimatverein/
LOCATION:Rittergut Putzkau\, Ottendorfer Str. 6\, Schmölln-Putzkau\, Sachsen\, 01877\, Deutschland
CATEGORIES:geschlossene Veranstaltung
END:VEVENT
BEGIN:VEVENT
DTSTART;TZID=Europe/Berlin:20230421T170000
DTEND;TZID=Europe/Berlin:20230421T210000
DTSTAMP:20260420T124354
CREATED:20230331T123328Z
LAST-MODIFIED:20230419T060509Z
UID:746-1682096400-1682110800@www.heimatverein-schmoelln.de
SUMMARY:5. Frühjahrserwachen am Heimatmuseum
DESCRIPTION:Nachdem wir 2020 das letzte Fest dieser Art durchgeführt haben lädt der Verein der Natur- & Heimatfreunde am 21.04.2023 ab 17 Uhr bereits  zum 5. Male zu unserem „Frühjahrserwachen am Heimatmuseum“ ein. Für das leibliche Wohl wird traditionell mit frischen Köstlichkeiten vom Grill\, Fettbemmen sowie Getränken gesorgt. Wir freuen uns auf Ihr Kommen.
URL:https://www.heimatverein-schmoelln.de/termine-veranstaltungen/5-fruehjahrserwachen-am-heimatmuseum/
LOCATION:Heimatmuseum\, Schulweg 1\, Schmölln OL\, Sachsen\, 01877\, Deutschland
CATEGORIES:öffentliche Veranstaltung
ATTACH;FMTTYPE=image/jpeg:https://www.heimatverein-schmoelln.de/wp-content/uploads/2023/03/Fruehjahrserwachen_2023_final-scaled.jpg
ORGANIZER;CN="Verein der Natur- und Heimatfreunde Schm%C3%B6lln OL e.V.":MAILTO:info@heimatverein-schmoelln.de
END:VEVENT
BEGIN:VEVENT
DTSTART;TZID=Europe/Berlin:20230325T140000
DTEND;TZID=Europe/Berlin:20230325T170000
DTSTAMP:20260420T124354
CREATED:20230306T134137Z
LAST-MODIFIED:20230331T123057Z
UID:734-1679752800-1679763600@www.heimatverein-schmoelln.de
SUMMARY:1. Osterbasteln
DESCRIPTION:Wir möchten alle Kinder der Gemeinde Schmölln-Putzkau zum 1. Osterbasteln in das Dorfgemeinschaftszentrum einladen. \nFür eine bessere Planung bitten wir\, um eine kurze telefonische Anmeldung unter 0171-9586341 oder 0160-91748967.
URL:https://www.heimatverein-schmoelln.de/termine-veranstaltungen/1-osterbasteln/
LOCATION:Dorfgemeinschaftszentrum Schmölln\, Schulweg 1\, Schmölln-Putzkau\, Sachsen\, 01877\, Deutschland
CATEGORIES:öffentliche Veranstaltung
ORGANIZER;CN="Verein der Natur- und Heimatfreunde Schm%C3%B6lln OL e.V.":MAILTO:info@heimatverein-schmoelln.de
END:VEVENT
BEGIN:VEVENT
DTSTART;TZID=Europe/Berlin:20220925T140000
DTEND;TZID=Europe/Berlin:20220925T170000
DTSTAMP:20260420T124354
CREATED:20220901T112005Z
LAST-MODIFIED:20220901T112619Z
UID:664-1664114400-1664125200@www.heimatverein-schmoelln.de
SUMMARY:Drachenfest 2022
DESCRIPTION:Seit Wochen wird fleißig daraufhin gearbeitet\, denn es ist wieder soweit. Der Heimatverein lädt am 25.09.2022 zum diesjährigen Drachenfest auf den Oberhofberg ein.
URL:https://www.heimatverein-schmoelln.de/termine-veranstaltungen/drachenfest-2022/
LOCATION:Oberhofberg\, Oberhofbergweg\, Schmölln-Putzkau\, Sachsen\, 01877\, Deutschland
CATEGORIES:öffentliche Veranstaltung
ATTACH;FMTTYPE=image/png:https://www.heimatverein-schmoelln.de/wp-content/uploads/2022/09/Drachenfest-2022_social.png
ORGANIZER;CN="Verein der Natur- und Heimatfreunde Schm%C3%B6lln OL e.V.":MAILTO:info@heimatverein-schmoelln.de
END:VEVENT
BEGIN:VEVENT
DTSTART;TZID=Europe/Berlin:20220717T140000
DTEND;TZID=Europe/Berlin:20220717T170000
DTSTAMP:20260420T124354
CREATED:20220701T120559Z
LAST-MODIFIED:20220901T120617Z
UID:670-1658066400-1658077200@www.heimatverein-schmoelln.de
SUMMARY:Museumsfest am Heimatmuseum 2022
DESCRIPTION:Die erste Veranstaltung seit langem wird für den Heimatverein das traditionelle Museumsfest. Dazu sind alle herzlich eingeladen. Für das leibliche Wohl ist natürlich auch gesorgt.
URL:https://www.heimatverein-schmoelln.de/termine-veranstaltungen/museumsfest-am-heimatmuseum-2022/
LOCATION:Heimatmuseum\, Schulweg 1\, Schmölln OL\, Sachsen\, 01877\, Deutschland
CATEGORIES:öffentliche Veranstaltung
ATTACH;FMTTYPE=image/png:https://www.heimatverein-schmoelln.de/wp-content/uploads/2022/07/MUSEUMSFEST-2022_social.png
ORGANIZER;CN="Verein der Natur- und Heimatfreunde Schm%C3%B6lln OL e.V.":MAILTO:info@heimatverein-schmoelln.de
END:VEVENT
BEGIN:VEVENT
DTSTART;TZID=Europe/Berlin:20200403T170000
DTEND;TZID=Europe/Berlin:20200403T200000
DTSTAMP:20260420T124354
CREATED:20200214T165341Z
LAST-MODIFIED:20200215T113525Z
UID:249-1585933200-1585944000@www.heimatverein-schmoelln.de
SUMMARY:4. Frühjahrserwachen am Heimatmuseum
DESCRIPTION:Der Verein der Natur- und Heimatfreunde lädt am 03.04.2020 ab 17 Uhr nun bereits zum 4. Mal zum Frühjahrserwachen am Heimatmuseum ein. Das traditionelle Frühlingsfest im und am Heimatmuseum hat bei vielen Einwohnern und Besuchern von Schmölln bereits einen festen Platz im Terminkalender bekommen. \nFür das leibliche Wohl wird traditionell mit frischen Köstlichkeiten vom Grill\, Fettbemmen sowie Getränken gesorgt. Wir freuen uns auf Ihr Kommen.
URL:https://www.heimatverein-schmoelln.de/termine-veranstaltungen/fruehjahrserwachen-am-museum/
LOCATION:Heimatmuseum\, Schulweg 1\, Schmölln OL\, Sachsen\, 01877\, Deutschland
CATEGORIES:öffentliche Veranstaltung
ATTACH;FMTTYPE=image/jpeg:https://www.heimatverein-schmoelln.de/wp-content/uploads/2020/02/frühjahrserwachen_2020_event.jpg
ORGANIZER;CN="Verein der Natur- und Heimatfreunde Schm%C3%B6lln OL e.V.":MAILTO:info@heimatverein-schmoelln.de
END:VEVENT
BEGIN:VEVENT
DTSTART;VALUE=DATE:20200401
DTEND;VALUE=DATE:20200601
DTSTAMP:20260420T124354
CREATED:20200215T170758Z
LAST-MODIFIED:20200215T171043Z
UID:257-1585699200-1590969599@www.heimatverein-schmoelln.de
SUMMARY:Frühjahrswanderung
DESCRIPTION:Geplant ist auch dieses Jahr endlich wieder eine Frühjahrswanderung. Allerdings ist im Moment nocht nicht klar\, wann sie stattfindet und wohin diese uns führen wird. Daher gilt auch hier: Der genaue Termin wird dazu noch bekannt gegeben. \nWer sich dafür interessiert meldet sich bitte per SMS oder telefonisch bei Holger Nettekoven. (0171-9586341)
URL:https://www.heimatverein-schmoelln.de/termine-veranstaltungen/fruehjahrswanderung/
LOCATION:Sachsen
CATEGORIES:öffentliche Veranstaltung
ORGANIZER;CN="Verein der Natur- und Heimatfreunde Schm%C3%B6lln OL e.V.":MAILTO:info@heimatverein-schmoelln.de
END:VEVENT
BEGIN:VEVENT
DTSTART;TZID=Europe/Berlin:20200305T190000
DTEND;TZID=Europe/Berlin:20200305T210000
DTSTAMP:20260420T124354
CREATED:20200214T060913Z
LAST-MODIFIED:20200214T164210Z
UID:240-1583434800-1583442000@www.heimatverein-schmoelln.de
SUMMARY:Lichtbildervortrag über  Spanien
DESCRIPTION:Einen interessanten Lichtbildervortrag über Spanien wird Martin Grohmann am 05.03.2020 ab 19 Uhr im Dorfgemeinschaftszentrum von Schmölln halten. Der Natur- &. Heimatverein von Schmölln lädt hierzu herzlich ein.
URL:https://www.heimatverein-schmoelln.de/termine-veranstaltungen/lichtbildervortrag-ueber-spanien/
LOCATION:Dorfgemeinschaftszentrum Schmölln\, Schulweg 1\, Schmölln-Putzkau\, Sachsen\, 01877\, Deutschland
CATEGORIES:öffentliche Veranstaltung
ATTACH;FMTTYPE=image/jpeg:https://www.heimatverein-schmoelln.de/wp-content/uploads/2020/02/vortrag_spanien_2020.jpg
ORGANIZER;CN="Verein der Natur- und Heimatfreunde Schm%C3%B6lln OL e.V.":MAILTO:info@heimatverein-schmoelln.de
END:VEVENT
BEGIN:VEVENT
DTSTART;VALUE=DATE:20200301
DTEND;VALUE=DATE:20200501
DTSTAMP:20260420T124354
CREATED:20200215T115054Z
LAST-MODIFIED:20200215T115141Z
UID:255-1583020800-1588291199@www.heimatverein-schmoelln.de
SUMMARY:Frühjahrsputz
DESCRIPTION:Wie jedes Jahr findet nach den mehr oder weniger starken Winter unser Frühjahrsputz im und um das Schmöllner Heimatmuseum sowie auf dem Oberhofberg statt. Alle Mitglieder und Helfer sind aufgerufen sich rege daran zu beteiligen. Der genaue Termin wird dazu noch bekannt gegeben. \nWer sich dazu zur Verfügung stellen möchte\, meldet sich bitte per SMS oder telefonisch bei René Schubert. (0177-5220835)
URL:https://www.heimatverein-schmoelln.de/termine-veranstaltungen/fruehjahrsputz/
LOCATION:Heimatmuseum\, Schulweg 1\, Schmölln OL\, Sachsen\, 01877\, Deutschland
CATEGORIES:Arbeitseinsätze
ORGANIZER;CN="Verein der Natur- und Heimatfreunde Schm%C3%B6lln OL e.V.":MAILTO:info@heimatverein-schmoelln.de
END:VEVENT
END:VCALENDAR